BEGIN:VCALENDAR
VERSION:2.0
PRODID:-//arlegalaid.org//NONSGML kigkonsult.se iCalcreator 2.30.10//
CALSCALE:GREGORIAN
METHOD:PUBLISH
UID:0db5228b-4f0d-44ac-bb1a-2b2ec2b02bd9
X-WR-CALDESC:Legal Aid of Arkansas is hosting a statewide symposium to conn
 ect attorneys\, judges\, law enforcement officers\, medical professionals\
 , pharmacists\, educators and the general public about the impact legal se
 rvices can make for families experiencing opioid use disorder (OUD). Learn
  more about the experience of addiction\, treatment\, and recovery options
  and how civil legal aid can step in to help impacted families at differen
 t points of the treatment and recovery process. \n\nClick 'Register Now' a
 bove to reserve your spot!
X-WR-RELCALID:1e1ac82b847e277c8497bbdbd3349627
X-WR-TIMEZONE:America/Chicago
BEGIN:VTIMEZONE
TZID:America/Chicago
BEGIN:STANDARD
TZNAME:CST
DTSTART:20191103T020000
TZOFFSETFROM:-0500
TZOFFSETTO:-0600
RDATE:20201101T020000
END:STANDARD
BEGIN:DAYLIGHT
TZNAME:CDT
DTSTART:20190310T020000
TZOFFSETFROM:-0600
TZOFFSETTO:-0500
RDATE:20200308T020000
RDATE:20210314T020000
END:DAYLIGHT
END:VTIMEZONE
BEGIN:VEVENT
UID:05d0607c-ca52-4bcf-b4e1-a597abb09e79
DTSTAMP:20260422T102207Z
DESCRIPTION:Legal Aid of Arkansas is hosting a statewide symposium to conne
 ct attorneys\, judges\, law enforcement officers\, medical professionals\,
  pharmacists\, educators and the general public about the impact legal ser
 vices can make for families experiencing opioid use disorder (OUD). Learn 
 more about the experience of addiction\, treatment\, and recovery options 
 and how civil legal aid can step in to help impacted families at different
  points of the treatment and recovery process. \n\nClick 'Register Now' ab
 ove to reserve your spot!
DTSTART;TZID=America/Chicago:20200129T000000
DTEND;TZID=America/Chicago:20200129T235900
LOCATION:The Glass Factory | Jonesboro\, AR
SUMMARY:Evicting the Monster in the Cave Symposium
END:VEVENT
END:VCALENDAR
