BEGIN:VCALENDAR
VERSION:2.0
PRODID:-//arlegalaid.org//NONSGML kigkonsult.se iCalcreator 2.30.10//
CALSCALE:GREGORIAN
METHOD:PUBLISH
UID:c12b1a33-24c6-4904-ba50-62f61dede951
X-WR-CALDESC:Assist attorneys providing basic estate planning services to s
 ingle parents in Benton County. This annual event is organized by the Bent
 on County Bar Association\, Legal Aid of Arkansas and the Single Parent Sc
 holarship Fund of Benton County. \n\n
X-WR-RELCALID:550d7b5a33314819e8bfcd5751610764
X-WR-TIMEZONE:America/Chicago
BEGIN:VTIMEZONE
TZID:America/Chicago
BEGIN:STANDARD
TZNAME:CST
DTSTART:20191103T020000
TZOFFSETFROM:-0500
TZOFFSETTO:-0600
RDATE:20201101T020000
END:STANDARD
BEGIN:DAYLIGHT
TZNAME:CDT
DTSTART:20190310T020000
TZOFFSETFROM:-0600
TZOFFSETTO:-0500
RDATE:20200308T020000
RDATE:20210314T020000
END:DAYLIGHT
END:VTIMEZONE
BEGIN:VEVENT
UID:8f70d6bf-64ff-4884-98e3-85f74cb98ab4
DTSTAMP:20260422T065957Z
DESCRIPTION:Assist attorneys providing basic estate planning services to si
 ngle parents in Benton County. This annual event is organized by the Bento
 n County Bar Association\, Legal Aid of Arkansas and the Single Parent Sch
 olarship Fund of Benton County. \n\n
DTSTART;TZID=America/Chicago:20200208T083000
DTEND;TZID=America/Chicago:20200208T113000
LOCATION:Single Parent Scholarship of Benton County offices\, 2601 SW D St\
 , Bentonville
SUMMARY:Estate Planning Clinic for Single Parent Scholarship Fund (Benton C
 o)
END:VEVENT
END:VCALENDAR
