BEGIN:VCALENDAR
VERSION:2.0
PRODID:-//arlegalaid.org//NONSGML kigkonsult.se iCalcreator 2.30.10//
CALSCALE:GREGORIAN
METHOD:PUBLISH
UID:25a9a1cf-77eb-4b75-ac7d-29636b979aa4
X-WR-CALDESC:Help stop housing discrimination by becoming a fair housing te
 ster with Legal Aid! New testers will attend a half-day training where the
 y will learn about housing and civil rights laws\, be assigned a tester pr
 ofile\, and complete a fair housing test. Once they have applied to become
  a tester and completed training\, they will be contacted periodically thr
 oughout the year to run tests. Commitment is flexible. Testers receive $50
  for one day of training and additional payment for tests completed throug
 hout the year.\n\nBefore attending training\, interested persons must comp
 lete the application at https://arlegalaid.org/housingtester/apply.html
X-WR-RELCALID:d8b87922b3e6cbfacddcf783560bb206
X-WR-TIMEZONE:America/Chicago
BEGIN:VTIMEZONE
TZID:America/Chicago
BEGIN:STANDARD
TZNAME:CST
DTSTART:20191103T020000
TZOFFSETFROM:-0500
TZOFFSETTO:-0600
RDATE:20201101T020000
END:STANDARD
BEGIN:DAYLIGHT
TZNAME:CDT
DTSTART:20190310T020000
TZOFFSETFROM:-0600
TZOFFSETTO:-0500
RDATE:20200308T020000
RDATE:20210314T020000
END:DAYLIGHT
END:VTIMEZONE
BEGIN:VEVENT
UID:0d5d22b9-904b-4a98-8d46-c912a8f500a8
DTSTAMP:20260422T065642Z
DESCRIPTION:Help stop housing discrimination by becoming a fair housing tes
 ter with Legal Aid! New testers will attend a half-day training where they
  will learn about housing and civil rights laws\, be assigned a tester pro
 file\, and complete a fair housing test. Once they have applied to become 
 a tester and completed training\, they will be contacted periodically thro
 ughout the year to run tests. Commitment is flexible. Testers receive $50 
 for one day of training and additional payment for tests completed through
 out the year.\n\nBefore attending training\, interested persons must compl
 ete the application at https://arlegalaid.org/housingtester/apply.html
DTSTART;TZID=America/Chicago:20200221T093000
DTEND;TZID=America/Chicago:20200221T150000
LOCATION:Fort Smith Public Library (Main)\; Campbell Board Room - 3201 Roge
 rs Ave\, Fort Smith\, AR 72903
SUMMARY:Fair Housing Tester Training - Fort Smith
END:VEVENT
END:VCALENDAR
