BEGIN:VCALENDAR
VERSION:2.0
PRODID:-//arlegalaid.org//NONSGML kigkonsult.se iCalcreator 2.30.10//
CALSCALE:GREGORIAN
METHOD:PUBLISH
UID:f2c66523-ae97-4ba3-92ef-14ded7fadae7
X-WR-CALDESC:Please tune into www.facebook.com/arlegalaid on Friday\, Febru
 ary 28 at 2:00 PM to ask Jennifer Gardiner\, Low-Income Taxpayer Clinic Di
 rector\, your questions about the filing season.
X-WR-RELCALID:f1f62afe2b52759109e61015f0ac57d9
X-WR-TIMEZONE:America/Chicago
BEGIN:VTIMEZONE
TZID:America/Chicago
BEGIN:STANDARD
TZNAME:CST
DTSTART:20191103T020000
TZOFFSETFROM:-0500
TZOFFSETTO:-0600
RDATE:20201101T020000
END:STANDARD
BEGIN:DAYLIGHT
TZNAME:CDT
DTSTART:20190310T020000
TZOFFSETFROM:-0600
TZOFFSETTO:-0500
RDATE:20200308T020000
RDATE:20210314T020000
END:DAYLIGHT
END:VTIMEZONE
BEGIN:VEVENT
UID:df7c8baf-8be7-4153-bd34-fc6acf5d6060
DTSTAMP:20260422T070429Z
DESCRIPTION:Please tune into www.facebook.com/arlegalaid on Friday\, Februa
 ry 28 at 2:00 PM to ask Jennifer Gardiner\, Low-Income Taxpayer Clinic Dir
 ector\, your questions about the filing season.
DTSTART;TZID=America/Chicago:20200228T140000
DTEND;TZID=America/Chicago:20200228T150000
LOCATION:Legal Aid of Arkansas Facebook Page
SUMMARY:Facebook Live: IRS Refunds and Filing Updates
END:VEVENT
END:VCALENDAR
