BEGIN:VCALENDAR
VERSION:2.0
PRODID:-//arlegalaid.org//NONSGML kigkonsult.se iCalcreator 2.30.10//
CALSCALE:GREGORIAN
METHOD:PUBLISH
UID:efff1af5-4b28-4dbf-9f78-484536c8b5f3
X-WR-CALDESC:Please tune into www.facebook.com/arlegalaid on Friday\, April
  3 at 12:00 PM to ask Jennifer Gardiner\, Low-Income Taxpayer Clinic Direc
 tor\, your questions about the filing season.
X-WR-RELCALID:9e24c9424e51f4cb35abb8d8e212819f
X-WR-TIMEZONE:America/Chicago
BEGIN:VTIMEZONE
TZID:America/Chicago
BEGIN:STANDARD
TZNAME:CST
DTSTART:20191103T020000
TZOFFSETFROM:-0500
TZOFFSETTO:-0600
RDATE:20201101T020000
END:STANDARD
BEGIN:DAYLIGHT
TZNAME:CDT
DTSTART:20190310T020000
TZOFFSETFROM:-0600
TZOFFSETTO:-0500
RDATE:20200308T020000
RDATE:20210314T020000
END:DAYLIGHT
END:VTIMEZONE
BEGIN:VEVENT
UID:608335f2-4cda-4c31-8799-20b204acfbe5
DTSTAMP:20260422T065458Z
DESCRIPTION:Please tune into www.facebook.com/arlegalaid on Friday\, April 
 3 at 12:00 PM to ask Jennifer Gardiner\, Low-Income Taxpayer Clinic Direct
 or\, your questions about the filing season.
DTSTART;TZID=America/Chicago:20200228T120000
DTEND;TZID=America/Chicago:20200228T130000
LOCATION:Legal Aid of Arkansas Facebook Page
SUMMARY:Facebook Live with LITC Director
END:VEVENT
END:VCALENDAR
