BEGIN:VCALENDAR
VERSION:2.0
PRODID:-//arlegalaid.org//NONSGML kigkonsult.se iCalcreator 2.30.10//
CALSCALE:GREGORIAN
METHOD:PUBLISH
UID:611d7446-87f7-495f-88ae-1dd04b2334a0
X-WR-CALDESC:The Board of Directors of Legal Aid of Arkansas will hold a vi
 rtual meeting this Saturday\, March 14 at 9:00 AM.\n\nPlease dial 866-625-
 9936 and enter guest code 21154265# to call into the meeting.\n\nThe publi
 c is encouraged to attend. We hope this virtual meeting gives everyone a c
 hance to participate without requiring additional travel.\n
X-WR-RELCALID:7ea555e8b65f5fb8677d0c7dbc179629
X-WR-TIMEZONE:America/Chicago
BEGIN:VTIMEZONE
TZID:America/Chicago
BEGIN:STANDARD
TZNAME:CST
DTSTART:20191103T020000
TZOFFSETFROM:-0500
TZOFFSETTO:-0600
RDATE:20201101T020000
END:STANDARD
BEGIN:DAYLIGHT
TZNAME:CDT
DTSTART:20200308T020000
TZOFFSETFROM:-0600
TZOFFSETTO:-0500
RDATE:20210314T020000
END:DAYLIGHT
END:VTIMEZONE
BEGIN:VEVENT
UID:c8ba4319-ed27-4572-a9f7-7a804e311e6a
DTSTAMP:20260422T051923Z
DESCRIPTION:The Board of Directors of Legal Aid of Arkansas will hold a vir
 tual meeting this Saturday\, March 14 at 9:00 AM.\n\nPlease dial 866-625-9
 936 and enter guest code 21154265# to call into the meeting.\n\nThe public
  is encouraged to attend. We hope this virtual meeting gives everyone a ch
 ance to participate without requiring additional travel.\n
DTSTART;TZID=America/Chicago:20200314T090000
DTEND;TZID=America/Chicago:20200314T120000
LOCATION:Virtual (Conference Call)
SUMMARY:Now Virtual - Legal Aid of Arkansas Board of Directors' Meeting
END:VEVENT
END:VCALENDAR
