BEGIN:VCALENDAR
VERSION:2.0
PRODID:-//arlegalaid.org//NONSGML kigkonsult.se iCalcreator 2.30.10//
CALSCALE:GREGORIAN
METHOD:PUBLISH
UID:91f0c426-d679-449c-bd3c-abaae4a61895
X-WR-CALDESC:Canceled - 10th Annual Spring Break Road to Justice Tour\n\nFr
 ee Legal Clinics in Marianna\, Augusta\, Wynne and CLE Training in Forrest
  City.
X-WR-RELCALID:bba6ad1c646b24bd8dbc319b7183c7e9
X-WR-TIMEZONE:America/Chicago
BEGIN:VTIMEZONE
TZID:America/Chicago
BEGIN:STANDARD
TZNAME:CST
DTSTART:20191103T020000
TZOFFSETFROM:-0500
TZOFFSETTO:-0600
RDATE:20201101T020000
END:STANDARD
BEGIN:DAYLIGHT
TZNAME:CDT
DTSTART:20200308T020000
TZOFFSETFROM:-0600
TZOFFSETTO:-0500
RDATE:20210314T020000
END:DAYLIGHT
END:VTIMEZONE
BEGIN:VEVENT
UID:461b1cae-d4a2-4ef0-8ebc-55cba7c6d7d0
DTSTAMP:20260422T052953Z
DESCRIPTION:Canceled - 10th Annual Spring Break Road to Justice Tour\n\nFre
 e Legal Clinics in Marianna\, Augusta\, Wynne and CLE Training in Forrest 
 City.
DTSTART;TZID=America/Chicago:20200323T000000
DTEND;TZID=America/Chicago:20200326T235900
LOCATION:
SUMMARY:Canceled - Free Legal Clinics and CLE Training in Eastern Arkansas
END:VEVENT
END:VCALENDAR
