BEGIN:VCALENDAR
VERSION:2.0
PRODID:-//arlegalaid.org//NONSGML kigkonsult.se iCalcreator 2.30.10//
CALSCALE:GREGORIAN
METHOD:PUBLISH
UID:920d5401-bec5-4424-9349-1d63dd6c906d
X-WR-CALDESC:Legal Aid of Arkansas is holding a conversation on Thursday\, 
 4/2\, at 4 p.m. about safety net benefits--all kinds of Medicaid\, includi
 ng Arkansas Works and ARChoices\, SNAP\, Unemployment Insurance\, the $120
 0 stimulus payments--and all the changes happening as a result of the COVI
 D-19 pandemic. This is meant to be practical information to help people st
 ruggling with loss of jobs\, income\, and other services get through these
  rough times. It's open to clients\, service providers\, advocates\, and a
 nyone else who'd like to come. Basically\, you should come if you are stru
 ggling\, work with people who are struggling\, or know people who are stru
 ggling. Please share this widely with your networks. \n\nIn addition\, we 
 will be talking about other policy choices that may be on the table for th
 e state regarding these programs. And\, we want to hear from folks about w
 hat you're experiencing or seeing. \n\nThere are two ways to participate: 
 \n\n(1) Register for the Zoom webinar: https://zoom.us/meeting/register/vJ
 MocuysqTgq4hFh62Z0ODNOSRsdWe4Ihg\n\n(2) Go to Legal Aid's Facebook page at
  4 p.m. on Thursday\, 4/2\, for the Facebook Live broadcast. Go there now\
 , like the page\, and register for the event (you can also share the event
 ): www.facebook.com/arlegalaid/
X-WR-RELCALID:042e1f115c5681b44a797ebfccdda3e2
X-WR-TIMEZONE:America/Chicago
BEGIN:VTIMEZONE
TZID:America/Chicago
BEGIN:STANDARD
TZNAME:CST
DTSTART:20191103T020000
TZOFFSETFROM:-0500
TZOFFSETTO:-0600
RDATE:20201101T020000
END:STANDARD
BEGIN:DAYLIGHT
TZNAME:CDT
DTSTART:20200308T020000
TZOFFSETFROM:-0600
TZOFFSETTO:-0500
RDATE:20210314T020000
END:DAYLIGHT
END:VTIMEZONE
BEGIN:VEVENT
UID:4ce59943-77ae-4215-b916-ed1f5a830f29
DTSTAMP:20260422T035725Z
DESCRIPTION:Legal Aid of Arkansas is holding a conversation on Thursday\, 4
 /2\, at 4 p.m. about safety net benefits--all kinds of Medicaid\, includin
 g Arkansas Works and ARChoices\, SNAP\, Unemployment Insurance\, the $1200
  stimulus payments--and all the changes happening as a result of the COVID
 -19 pandemic. This is meant to be practical information to help people str
 uggling with loss of jobs\, income\, and other services get through these 
 rough times. It's open to clients\, service providers\, advocates\, and an
 yone else who'd like to come. Basically\, you should come if you are strug
 gling\, work with people who are struggling\, or know people who are strug
 gling. Please share this widely with your networks. \n\nIn addition\, we w
 ill be talking about other policy choices that may be on the table for the
  state regarding these programs. And\, we want to hear from folks about wh
 at you're experiencing or seeing. \n\nThere are two ways to participate: 
 \n\n(1) Register for the Zoom webinar: https://zoom.us/meeting/register/vJ
 MocuysqTgq4hFh62Z0ODNOSRsdWe4Ihg\n\n(2) Go to Legal Aid's Facebook page at
  4 p.m. on Thursday\, 4/2\, for the Facebook Live broadcast. Go there now\
 , like the page\, and register for the event (you can also share the event
 ): www.facebook.com/arlegalaid/
DTSTART;TZID=America/Chicago:20200402T160000
DTEND;TZID=America/Chicago:20200402T170000
LOCATION:Zoom and Facebook Live at @arlegalaid
SUMMARY:Facebook Convo on Crisis Benefits: Medicaid\, SNAP\, Unemployment
END:VEVENT
END:VCALENDAR
