BEGIN:VCALENDAR
VERSION:2.0
PRODID:-//arlegalaid.org//NONSGML kigkonsult.se iCalcreator 2.30.10//
CALSCALE:GREGORIAN
METHOD:PUBLISH
UID:17be9ae1-5018-4100-8ab4-b2fa48e084b2
X-WR-CALDESC:Join us on Facebook Live this Friday\, April 3rd at 1:00 PM wi
 th Tax Attorney Jennifer Gardiner for information about receiving your sti
 mulus payment and tax updates. Jennifer will be available to answer any qu
 estions you have at that time about receiving the stimulus payment like\, 
 how to update your address with the IRS or what happens if you owe taxes o
 r child support.\n\nPlease feel free to ask your questions ahead of time b
 y calling our HelpLine at 1-800-967-9224. Follow along at www.arlegalservi
 ces.org/covid-19 for more resources that may help during this time.
X-WR-RELCALID:a4bf1ab048bbf3694b8a44e7d29f4ce4
X-WR-TIMEZONE:America/Chicago
BEGIN:VTIMEZONE
TZID:America/Chicago
BEGIN:STANDARD
TZNAME:CST
DTSTART:20191103T020000
TZOFFSETFROM:-0500
TZOFFSETTO:-0600
RDATE:20201101T020000
END:STANDARD
BEGIN:DAYLIGHT
TZNAME:CDT
DTSTART:20200308T020000
TZOFFSETFROM:-0600
TZOFFSETTO:-0500
RDATE:20210314T020000
END:DAYLIGHT
END:VTIMEZONE
BEGIN:VEVENT
UID:2554fe06-4cf1-4e7b-a3a3-532cfc07febe
DTSTAMP:20260422T035141Z
DESCRIPTION:Join us on Facebook Live this Friday\, April 3rd at 1:00 PM wit
 h Tax Attorney Jennifer Gardiner for information about receiving your stim
 ulus payment and tax updates. Jennifer will be available to answer any que
 stions you have at that time about receiving the stimulus payment like\, h
 ow to update your address with the IRS or what happens if you owe taxes or
  child support.\n\nPlease feel free to ask your questions ahead of time by
  calling our HelpLine at 1-800-967-9224. Follow along at www.arlegalservic
 es.org/covid-19 for more resources that may help during this time.
DTSTART;TZID=America/Chicago:20200403T130000
DTEND;TZID=America/Chicago:20200403T140000
LOCATION:Facebook Live at @arlegalaid
SUMMARY:Q&A about COVID-19 Stimulus Payments
END:VEVENT
END:VCALENDAR
