BEGIN:VCALENDAR
VERSION:2.0
PRODID:-//arlegalaid.org//NONSGML kigkonsult.se iCalcreator 2.30.10//
CALSCALE:GREGORIAN
METHOD:PUBLISH
UID:97a46ebe-4554-496a-b6b3-afcf5de509f3
X-WR-CALDESC:Join Medical Legal Partnership Supervising Attorney Hannah Roe
  for this Pro Bono Guardianship Training. CLE credits are pending approval
 .\n\nRegister here:\nhttps://zoom.us/meeting/register/tJcsf-2oqj4tGdHzi906
 MiQ2okCYFFdNERGk
X-WR-RELCALID:8052cdada6956ff177b57a573364fc4b
X-WR-TIMEZONE:America/Chicago
BEGIN:VTIMEZONE
TZID:America/Chicago
BEGIN:STANDARD
TZNAME:CST
DTSTART:20191103T020000
TZOFFSETFROM:-0500
TZOFFSETTO:-0600
RDATE:20201101T020000
RDATE:20211107T020000
END:STANDARD
BEGIN:DAYLIGHT
TZNAME:CDT
DTSTART:20200308T020000
TZOFFSETFROM:-0600
TZOFFSETTO:-0500
RDATE:20210314T020000
END:DAYLIGHT
END:VTIMEZONE
BEGIN:VEVENT
UID:a049697f-5078-49a8-8b41-1a20709c8483
DTSTAMP:20260422T004211Z
DESCRIPTION:Join Medical Legal Partnership Supervising Attorney Hannah Roe 
 for this Pro Bono Guardianship Training. CLE credits are pending approval.
 \n\nRegister here:\nhttps://zoom.us/meeting/register/tJcsf-2oqj4tGdHzi906M
 iQ2okCYFFdNERGk
DTSTART;TZID=America/Chicago:20200611T133000
DTEND;TZID=America/Chicago:20200611T153000
LOCATION:Virtual Training on Zoom
SUMMARY:Pro Bono Guardianship Training
END:VEVENT
END:VCALENDAR
