BEGIN:VCALENDAR
VERSION:2.0
PRODID:-//arlegalaid.org//NONSGML kigkonsult.se iCalcreator 2.30.10//
CALSCALE:GREGORIAN
METHOD:PUBLISH
UID:38280971-4454-4872-b856-abb222a88758
X-WR-CALDESC:
X-WR-RELCALID:1f1e144ffdb5f7f4726038b9f8be090f
X-WR-TIMEZONE:America/Chicago
BEGIN:VTIMEZONE
TZID:America/Chicago
BEGIN:STANDARD
TZNAME:CST
DTSTART:20191103T020000
TZOFFSETFROM:-0500
TZOFFSETTO:-0600
RDATE:20201101T020000
RDATE:20211107T020000
END:STANDARD
BEGIN:DAYLIGHT
TZNAME:CDT
DTSTART:20200308T020000
TZOFFSETFROM:-0600
TZOFFSETTO:-0500
RDATE:20210314T020000
RDATE:20220313T020000
END:DAYLIGHT
END:VTIMEZONE
BEGIN:VEVENT
UID:33977a3f-3ac4-4c09-8581-3ce21fd72b0c
DTSTAMP:20260421T232657Z
DESCRIPTION:
DTSTART;TZID=America/Chicago:20200919T090000
DTEND;TZID=America/Chicago:20200919T120000
LOCATION:TBA
SUMMARY:Board of Directors' Meeting
END:VEVENT
END:VCALENDAR
