BEGIN:VCALENDAR
VERSION:2.0
PRODID:-//arlegalaid.org//NONSGML kigkonsult.se iCalcreator 2.30.10//
CALSCALE:GREGORIAN
METHOD:PUBLISH
UID:a6c3d2ee-4f6f-4b22-994d-ff546de63e4c
X-WR-CALDESC:Visit Arkansas United on Facebook at 4:30 PM today for a Faceb
 ook Live presentation in Spanish about workers' rights\, evictions\, publi
 c benefits (SNAP\, unemployment) and more!\n\nArkansas United on Facebook:
  https://www.facebook.com/ARimmigrants
X-WR-RELCALID:69d0264204dee044c10a5f879ec7c310
X-WR-TIMEZONE:America/Chicago
BEGIN:VTIMEZONE
TZID:America/Chicago
BEGIN:STANDARD
TZNAME:CST
DTSTART:20191103T020000
TZOFFSETFROM:-0500
TZOFFSETTO:-0600
RDATE:20201101T020000
RDATE:20211107T020000
END:STANDARD
BEGIN:DAYLIGHT
TZNAME:CDT
DTSTART:20200308T020000
TZOFFSETFROM:-0600
TZOFFSETTO:-0500
RDATE:20210314T020000
RDATE:20220313T020000
END:DAYLIGHT
END:VTIMEZONE
BEGIN:VEVENT
UID:cfa2a378-df07-4796-a69b-e42ed1333b29
DTSTAMP:20260421T232549Z
DESCRIPTION:Visit Arkansas United on Facebook at 4:30 PM today for a Facebo
 ok Live presentation in Spanish about workers' rights\, evictions\, public
  benefits (SNAP\, unemployment) and more!\n\nArkansas United on Facebook: 
 https://www.facebook.com/ARimmigrants
DTSTART;TZID=America/Chicago:20200923T163000
DTEND;TZID=America/Chicago:20200923T173000
LOCATION:
SUMMARY:Facebook Live with Arkansas United
END:VEVENT
END:VCALENDAR
