BEGIN:VCALENDAR
VERSION:2.0
PRODID:-//arlegalaid.org//NONSGML kigkonsult.se iCalcreator 2.30.10//
CALSCALE:GREGORIAN
METHOD:PUBLISH
UID:ad5ede3b-6fcf-4c7d-bce8-4dee8d3fa091
X-WR-CALDESC:Learn how to help people break down barriers to employment and
  housing with this free CLE training on criminal record sealing. Jordan Ba
 tes-Rogers with Arkansas Access to Justice will present this 1 hour CLE ov
 er Zoom on October 8th at 12:00.\n\nRegister now: https://bit.ly/35o5YEp\n
 \nLegal Aid will have a free\, virtual clinic on October 9th to seal crimi
 nal records. Learn more about the event here: https://bit.ly/3bVWwtb
X-WR-RELCALID:f3cd55cc8b4d3a39312ee6f273ef168a
X-WR-TIMEZONE:America/Chicago
BEGIN:VTIMEZONE
TZID:America/Chicago
BEGIN:STANDARD
TZNAME:CST
DTSTART:20191103T020000
TZOFFSETFROM:-0500
TZOFFSETTO:-0600
RDATE:20201101T020000
RDATE:20211107T020000
END:STANDARD
BEGIN:DAYLIGHT
TZNAME:CDT
DTSTART:20200308T020000
TZOFFSETFROM:-0600
TZOFFSETTO:-0500
RDATE:20210314T020000
RDATE:20220313T020000
END:DAYLIGHT
END:VTIMEZONE
BEGIN:VEVENT
UID:19af99f7-9c12-45ed-a0f4-b5766bd0bf8f
DTSTAMP:20260422T010434Z
DESCRIPTION:Learn how to help people break down barriers to employment and 
 housing with this free CLE training on criminal record sealing. Jordan Bat
 es-Rogers with Arkansas Access to Justice will present this 1 hour CLE ove
 r Zoom on October 8th at 12:00.\n\nRegister now: https://bit.ly/35o5YEp\n
 \nLegal Aid will have a free\, virtual clinic on October 9th to seal crimi
 nal records. Learn more about the event here: https://bit.ly/3bVWwtb
DTSTART;TZID=America/Chicago:20201008T120000
DTEND;TZID=America/Chicago:20201008T130000
LOCATION:https://bit.ly/35o5YEp
SUMMARY:Sealing Criminal Records in Arkansas (1.0 CLE)
END:VEVENT
END:VCALENDAR
