BEGIN:VCALENDAR
VERSION:2.0
PRODID:-//arlegalaid.org//NONSGML kigkonsult.se iCalcreator 2.30.10//
CALSCALE:GREGORIAN
METHOD:PUBLISH
UID:4dc29ed1-e91a-4b83-b6a1-c5a100994e00
X-WR-CALDESC:Legal Aid of Arkansas and Center for Arkansas Legal Services s
 taff will join together for their annual statewide conference.
X-WR-RELCALID:bf51a95e22326a075e5afa2b956028e0
X-WR-TIMEZONE:America/Chicago
BEGIN:VTIMEZONE
TZID:America/Chicago
BEGIN:STANDARD
TZNAME:CST
DTSTART:20191103T020000
TZOFFSETFROM:-0500
TZOFFSETTO:-0600
RDATE:20201101T020000
RDATE:20211107T020000
END:STANDARD
BEGIN:DAYLIGHT
TZNAME:CDT
DTSTART:20200308T020000
TZOFFSETFROM:-0600
TZOFFSETTO:-0500
RDATE:20210314T020000
RDATE:20220313T020000
END:DAYLIGHT
END:VTIMEZONE
BEGIN:VEVENT
UID:615a959b-ff9e-4e56-9e16-39d17d4420f0
DTSTAMP:20260422T010449Z
DESCRIPTION:Legal Aid of Arkansas and Center for Arkansas Legal Services st
 aff will join together for their annual statewide conference.
DTSTART;TZID=America/Chicago:20201014T120000
DTEND;TZID=America/Chicago:20201016T120000
LOCATION:
SUMMARY:2020 Statewide Legal Services Conference
END:VEVENT
END:VCALENDAR
