BEGIN:VCALENDAR
VERSION:2.0
PRODID:-//arlegalaid.org//NONSGML kigkonsult.se iCalcreator 2.30.10//
CALSCALE:GREGORIAN
METHOD:PUBLISH
UID:9dac7780-f2e3-4df1-8e46-5b3c28ad236b
X-WR-CALDESC:Help stop housing discrimination by becoming a fair housing te
 ster with Legal Aid! New testers will attend a virtual training where they
  will learn about fair housing laws and testing procedures. Testers will t
 hen be assigned a tester profile and complete an on-site fair housing test
  in the immediate weeks after training. This will be done as safely as pos
 sible in adherence with social distancing guidelines. Once they have appli
 ed to become a tester and completed training\, they will be contacted peri
 odically throughout the year to run tests. Commitment is flexible. Testers
  receive $50 for training and their first test and additional payment for 
 tests completed throughout the year.\n\nBefore attending training\, intere
 sted persons must complete the application at https://arlegalaid.org/housi
 ngtester/apply.html
X-WR-RELCALID:f982098e3e2f7385a376e24fd20b2579
X-WR-TIMEZONE:America/Chicago
BEGIN:VTIMEZONE
TZID:America/Chicago
BEGIN:STANDARD
TZNAME:CST
DTSTART:20191103T020000
TZOFFSETFROM:-0500
TZOFFSETTO:-0600
RDATE:20201101T020000
RDATE:20211107T020000
END:STANDARD
BEGIN:DAYLIGHT
TZNAME:CDT
DTSTART:20200308T020000
TZOFFSETFROM:-0600
TZOFFSETTO:-0500
RDATE:20210314T020000
RDATE:20220313T020000
END:DAYLIGHT
END:VTIMEZONE
BEGIN:VEVENT
UID:46572115-7524-4190-ba74-4e4189ddd0c6
DTSTAMP:20260422T010102Z
DESCRIPTION:Help stop housing discrimination by becoming a fair housing tes
 ter with Legal Aid! New testers will attend a virtual training where they 
 will learn about fair housing laws and testing procedures. Testers will th
 en be assigned a tester profile and complete an on-site fair housing test 
 in the immediate weeks after training. This will be done as safely as poss
 ible in adherence with social distancing guidelines. Once they have applie
 d to become a tester and completed training\, they will be contacted perio
 dically throughout the year to run tests. Commitment is flexible. Testers 
 receive $50 for training and their first test and additional payment for t
 ests completed throughout the year.\n\nBefore attending training\, interes
 ted persons must complete the application at https://arlegalaid.org/housin
 gtester/apply.html
DTSTART;TZID=America/Chicago:20201023T090000
DTEND;TZID=America/Chicago:20201023T120000
LOCATION:Zoom
SUMMARY:Little Rock Virtual Fair Housing Tester Training
END:VEVENT
END:VCALENDAR
