BEGIN:VCALENDAR
VERSION:2.0
PRODID:-//arlegalaid.org//NONSGML kigkonsult.se iCalcreator 2.30.10//
CALSCALE:GREGORIAN
METHOD:PUBLISH
UID:7c5f156a-a763-44eb-8032-3afdd9e6501c
X-WR-CALDESC:Please email dbeard@arlegalaid.org or by calling 870-972-9224 
 ext. 6640
X-WR-RELCALID:a37fba5050094a815591ea802837b59a
X-WR-TIMEZONE:America/Chicago
BEGIN:VTIMEZONE
TZID:America/Chicago
BEGIN:STANDARD
TZNAME:CST
DTSTART:20201101T020000
TZOFFSETFROM:-0500
TZOFFSETTO:-0600
RDATE:20211107T020000
END:STANDARD
BEGIN:DAYLIGHT
TZNAME:CDT
DTSTART:20200308T020000
TZOFFSETFROM:-0600
TZOFFSETTO:-0500
RDATE:20210314T020000
RDATE:20220313T020000
END:DAYLIGHT
END:VTIMEZONE
BEGIN:VEVENT
UID:84ef50a2-4d2e-410f-a25a-ba367515a1d4
DTSTAMP:20260422T092004Z
DESCRIPTION:Please email dbeard@arlegalaid.org or by calling 870-972-9224 e
 xt. 6640
DTSTART;TZID=America/Chicago:20210302T190000
DTEND;TZID=America/Chicago:20210302T200000
LOCATION:Virtual:
SUMMARY:Fair Housing Act Presentation
END:VEVENT
END:VCALENDAR
