BEGIN:VCALENDAR
VERSION:2.0
PRODID:-//arlegalaid.org//NONSGML kigkonsult.se iCalcreator 2.30.10//
CALSCALE:GREGORIAN
METHOD:PUBLISH
UID:9dd53f2e-52f8-4044-b0b1-ebc51674ddc0
X-WR-CALDESC:Law Students of Arkansas\, if interested\, you must submit you
 r resume to Grenada Johnson by March 5th.
X-WR-RELCALID:5900d9984e1578586ae0ac304d6083a1
X-WR-TIMEZONE:America/Chicago
BEGIN:VTIMEZONE
TZID:America/Chicago
BEGIN:STANDARD
TZNAME:CST
DTSTART:20201101T020000
TZOFFSETFROM:-0500
TZOFFSETTO:-0600
RDATE:20211107T020000
END:STANDARD
BEGIN:DAYLIGHT
TZNAME:CDT
DTSTART:20200308T020000
TZOFFSETFROM:-0600
TZOFFSETTO:-0500
RDATE:20210314T020000
RDATE:20220313T020000
END:DAYLIGHT
END:VTIMEZONE
BEGIN:VEVENT
UID:7fef4b60-38a5-4dc0-9f52-1b5de425a485
DTSTAMP:20260422T092148Z
DESCRIPTION:Law Students of Arkansas\, if interested\, you must submit your
  resume to Grenada Johnson by March 5th.
DTSTART;TZID=America/Chicago:20210305T000000
DTEND;TZID=America/Chicago:20210305T235900
LOCATION:
SUMMARY:11th Annual Spring Break on Road to Justice
END:VEVENT
END:VCALENDAR
