BEGIN:VCALENDAR
VERSION:2.0
PRODID:-//arlegalaid.org//NONSGML kigkonsult.se iCalcreator 2.30.10//
CALSCALE:GREGORIAN
METHOD:PUBLISH
UID:71471531-ef2f-4714-8d54-1444d0769ed8
X-WR-CALDESC:The third installment of our Say This\, Not That campaign will
  be released.
X-WR-RELCALID:971d4d2678d030e914c79a3ae4d7f191
X-WR-TIMEZONE:America/Chicago
BEGIN:VTIMEZONE
TZID:America/Chicago
BEGIN:STANDARD
TZNAME:CST
DTSTART:20201101T020000
TZOFFSETFROM:-0500
TZOFFSETTO:-0600
RDATE:20211107T020000
END:STANDARD
BEGIN:DAYLIGHT
TZNAME:CDT
DTSTART:20210314T020000
TZOFFSETFROM:-0600
TZOFFSETTO:-0500
RDATE:20220313T020000
END:DAYLIGHT
END:VTIMEZONE
BEGIN:VEVENT
UID:7dac897c-176b-48e1-8ef4-1c96cc5e7c05
DTSTAMP:20260422T091819Z
DESCRIPTION:The third installment of our Say This\, Not That campaign will 
 be released.
DTSTART;TZID=America/Chicago:20210316T000000
DTEND;TZID=America/Chicago:20210316T235900
LOCATION:
SUMMARY:Say This\, Not That Campaign: Week 3
END:VEVENT
END:VCALENDAR
