BEGIN:VCALENDAR
VERSION:2.0
PRODID:-//arlegalaid.org//NONSGML kigkonsult.se iCalcreator 2.30.10//
CALSCALE:GREGORIAN
METHOD:PUBLISH
UID:9db52d41-c61b-48a0-9c56-e852c50dcbd9
X-WR-CALDESC:Q&A Session on Facebook Live!
X-WR-RELCALID:403e569c8485ab765f19beb6741fd084
X-WR-TIMEZONE:America/Chicago
BEGIN:VTIMEZONE
TZID:America/Chicago
BEGIN:STANDARD
TZNAME:CST
DTSTART:20201101T020000
TZOFFSETFROM:-0500
TZOFFSETTO:-0600
RDATE:20211107T020000
END:STANDARD
BEGIN:DAYLIGHT
TZNAME:CDT
DTSTART:20210314T020000
TZOFFSETFROM:-0600
TZOFFSETTO:-0500
RDATE:20220313T020000
END:DAYLIGHT
END:VTIMEZONE
BEGIN:VEVENT
UID:996f9a75-af66-43f6-951b-62072d33b1be
DTSTAMP:20260422T091929Z
DESCRIPTION:Q&A Session on Facebook Live!
DTSTART;TZID=America/Chicago:20210318T170000
DTEND;TZID=America/Chicago:20210318T180000
LOCATION:
SUMMARY:LITC Stimulus Update
END:VEVENT
END:VCALENDAR
