BEGIN:VCALENDAR
VERSION:2.0
PRODID:-//arlegalaid.org//NONSGML kigkonsult.se iCalcreator 2.30.10//
CALSCALE:GREGORIAN
METHOD:PUBLISH
UID:8cbe8f72-9bea-4945-bbcf-8d3eec3dd954
X-WR-CALDESC:The fourth installment of the Say This\, Not That Campaign wil
 l be released.
X-WR-RELCALID:8fa340ae4d9537b88e3091670c380241
X-WR-TIMEZONE:America/Chicago
BEGIN:VTIMEZONE
TZID:America/Chicago
BEGIN:STANDARD
TZNAME:CST
DTSTART:20201101T020000
TZOFFSETFROM:-0500
TZOFFSETTO:-0600
RDATE:20211107T020000
END:STANDARD
BEGIN:DAYLIGHT
TZNAME:CDT
DTSTART:20210314T020000
TZOFFSETFROM:-0600
TZOFFSETTO:-0500
RDATE:20220313T020000
END:DAYLIGHT
END:VTIMEZONE
BEGIN:VEVENT
UID:8d04d536-8018-47e7-a664-8e04d90d37c7
DTSTAMP:20260422T091929Z
DESCRIPTION:The fourth installment of the Say This\, Not That Campaign will
  be released.
DTSTART;TZID=America/Chicago:20210323T000000
DTEND;TZID=America/Chicago:20210323T235900
LOCATION:
SUMMARY:Say This\, Not That Campaign: Week 4
END:VEVENT
END:VCALENDAR
