BEGIN:VCALENDAR
VERSION:2.0
PRODID:-//arlegalaid.org//NONSGML kigkonsult.se iCalcreator 2.30.10//
CALSCALE:GREGORIAN
METHOD:PUBLISH
UID:214a00ac-6ad8-44d7-8b33-3a829ad7cc2d
X-WR-CALDESC:Please call Greneda Johnson to make an Appointment @ (870)972-
 9224 ext. 2202
X-WR-RELCALID:7c8505551913be70f7a2ce9607253fd3
X-WR-TIMEZONE:America/Chicago
BEGIN:VTIMEZONE
TZID:America/Chicago
BEGIN:STANDARD
TZNAME:CST
DTSTART:20201101T020000
TZOFFSETFROM:-0500
TZOFFSETTO:-0600
RDATE:20211107T020000
END:STANDARD
BEGIN:DAYLIGHT
TZNAME:CDT
DTSTART:20210314T020000
TZOFFSETFROM:-0600
TZOFFSETTO:-0500
RDATE:20220313T020000
END:DAYLIGHT
END:VTIMEZONE
BEGIN:VEVENT
UID:3075afc0-3445-47e7-a6f2-28461647e1a5
DTSTAMP:20260422T092809Z
DESCRIPTION:Please call Greneda Johnson to make an Appointment @ (870)972-9
 224 ext. 2202
DTSTART;TZID=America/Chicago:20210326T120000
DTEND;TZID=America/Chicago:20210326T160000
LOCATION:
SUMMARY:Virtual Estate Planning for Essential Workers
END:VEVENT
END:VCALENDAR
