BEGIN:VCALENDAR
VERSION:2.0
PRODID:-//arlegalaid.org//NONSGML kigkonsult.se iCalcreator 2.30.10//
CALSCALE:GREGORIAN
METHOD:PUBLISH
UID:d60b845b-5474-4441-a8c9-337da761ecda
X-WR-CALDESC:The fifth installment of the Say This\, Not That Campaign will
  be released.
X-WR-RELCALID:f83a95f4bfd3356a895758d659fd1342
X-WR-TIMEZONE:America/Chicago
BEGIN:VTIMEZONE
TZID:America/Chicago
BEGIN:STANDARD
TZNAME:CST
DTSTART:20201101T020000
TZOFFSETFROM:-0500
TZOFFSETTO:-0600
RDATE:20211107T020000
END:STANDARD
BEGIN:DAYLIGHT
TZNAME:CDT
DTSTART:20210314T020000
TZOFFSETFROM:-0600
TZOFFSETTO:-0500
RDATE:20220313T020000
END:DAYLIGHT
END:VTIMEZONE
BEGIN:VEVENT
UID:511aa2bf-98da-4f65-b0f6-4d95dfffb40b
DTSTAMP:20260422T091751Z
DESCRIPTION:The fifth installment of the Say This\, Not That Campaign will 
 be released.
DTSTART;TZID=America/Chicago:20210330T000000
DTEND;TZID=America/Chicago:20210330T235900
LOCATION:
SUMMARY:Say This\, Not That Campaign: Week 5
END:VEVENT
END:VCALENDAR
