BEGIN:VCALENDAR
VERSION:2.0
PRODID:-//arlegalaid.org//NONSGML kigkonsult.se iCalcreator 2.30.10//
CALSCALE:GREGORIAN
METHOD:PUBLISH
UID:5f11e8cb-b8c9-42f0-8a39-08c14f0ab141
X-WR-CALDESC:The sixth installment of our Say This\, Not That Campaign will
  be released.
X-WR-RELCALID:463d4067e4a07b5a21376c1592df94b5
X-WR-TIMEZONE:America/Chicago
BEGIN:VTIMEZONE
TZID:America/Chicago
BEGIN:STANDARD
TZNAME:CST
DTSTART:20201101T020000
TZOFFSETFROM:-0500
TZOFFSETTO:-0600
RDATE:20211107T020000
END:STANDARD
BEGIN:DAYLIGHT
TZNAME:CDT
DTSTART:20210314T020000
TZOFFSETFROM:-0600
TZOFFSETTO:-0500
RDATE:20220313T020000
END:DAYLIGHT
END:VTIMEZONE
BEGIN:VEVENT
UID:9090e046-a50a-4625-9cc9-334c8fcbf293
DTSTAMP:20260422T112935Z
DESCRIPTION:The sixth installment of our Say This\, Not That Campaign will 
 be released.
DTSTART;TZID=America/Chicago:20210406T000000
DTEND;TZID=America/Chicago:20210406T235900
LOCATION:
SUMMARY:Say This\, Not That Campaign: Week 6
END:VEVENT
END:VCALENDAR
