BEGIN:VCALENDAR
VERSION:2.0
PRODID:-//arlegalaid.org//NONSGML kigkonsult.se iCalcreator 2.30.10//
CALSCALE:GREGORIAN
METHOD:PUBLISH
UID:687182cb-15b9-459f-b936-83c3c434f71e
X-WR-CALDESC:The seventh installment of our Say This\, Not That Campaign wi
 ll be released.
X-WR-RELCALID:c83958610567632dba1d7523cee36226
X-WR-TIMEZONE:America/Chicago
BEGIN:VTIMEZONE
TZID:America/Chicago
BEGIN:STANDARD
TZNAME:CST
DTSTART:20201101T020000
TZOFFSETFROM:-0500
TZOFFSETTO:-0600
RDATE:20211107T020000
END:STANDARD
BEGIN:DAYLIGHT
TZNAME:CDT
DTSTART:20210314T020000
TZOFFSETFROM:-0600
TZOFFSETTO:-0500
RDATE:20220313T020000
END:DAYLIGHT
END:VTIMEZONE
BEGIN:VEVENT
UID:d0fba5e0-a452-40cb-bd28-d86c351824d6
DTSTAMP:20260422T112956Z
DESCRIPTION:The seventh installment of our Say This\, Not That Campaign wil
 l be released.
DTSTART;TZID=America/Chicago:20210413T000000
DTEND;TZID=America/Chicago:20210413T235900
LOCATION:
SUMMARY:Say This\, Not That Campaign: Week 7
END:VEVENT
END:VCALENDAR
