BEGIN:VCALENDAR
VERSION:2.0
PRODID:-//arlegalaid.org//NONSGML kigkonsult.se iCalcreator 2.30.10//
CALSCALE:GREGORIAN
METHOD:PUBLISH
UID:d88f7cd3-463b-413c-9eab-fcf30d5725a2
X-WR-CALDESC:The eighth installment of the Say This\, Not That Campaign wil
 l be released.
X-WR-RELCALID:9c55009e122574a145000512e3eee111
X-WR-TIMEZONE:America/Chicago
BEGIN:VTIMEZONE
TZID:America/Chicago
BEGIN:STANDARD
TZNAME:CST
DTSTART:20201101T020000
TZOFFSETFROM:-0500
TZOFFSETTO:-0600
RDATE:20211107T020000
END:STANDARD
BEGIN:DAYLIGHT
TZNAME:CDT
DTSTART:20210314T020000
TZOFFSETFROM:-0600
TZOFFSETTO:-0500
RDATE:20220313T020000
END:DAYLIGHT
END:VTIMEZONE
BEGIN:VEVENT
UID:b98c369f-d5e0-4da1-b4e7-8e95b4ef5225
DTSTAMP:20260422T112421Z
DESCRIPTION:The eighth installment of the Say This\, Not That Campaign will
  be released.
DTSTART;TZID=America/Chicago:20210420T160000
DTEND;TZID=America/Chicago:20210420T170000
LOCATION:
SUMMARY:Say This\, Not That Campaign: Week 8
END:VEVENT
END:VCALENDAR
