BEGIN:VCALENDAR
VERSION:2.0
PRODID:-//arlegalaid.org//NONSGML kigkonsult.se iCalcreator 2.30.10//
CALSCALE:GREGORIAN
METHOD:PUBLISH
UID:2bc1dba2-855d-4b26-9e56-38db9021a095
X-WR-CALDESC:Join us this Friday at Bradley Park in Jasper\, Arkansas for a
 n information and resource fair. \n\nOther participants include: NW Arkans
 as Housing Authority\, US Department of Agriculture\, Newton County Senior
  Center\, Survival Flight\, Boston Mountain Rural Health Clinic\, Universi
 ty of Arkansas Extension Service\, Legal Aid of Arkansas\, Attorney Genera
 l Leslie Rutledge's Office\, the Jasper Community Garden\, Jasper Farmer's
  Market\, volunteer fire department Fire Wise Arkansas\, Jasper Police Dep
 artment\, Air Evac Life Team\, Single Parent Scholarship of Arkansas\, The
  Newton County Christian Food Room\, Arkansas Game and Fish Commission\, H
 arps Food Store\, Farm Upon a Rock\, Newton County Sheriff's Office Resour
 ce Officer program\, Ruby's Three wishes and Early Childhood. Larson said 
 several more are also expected to attend.\n\n
X-WR-RELCALID:23501ef506a66827ba616fabc785d017
X-WR-TIMEZONE:America/Chicago
BEGIN:VTIMEZONE
TZID:America/Chicago
BEGIN:STANDARD
TZNAME:CST
DTSTART:20201101T020000
TZOFFSETFROM:-0500
TZOFFSETTO:-0600
RDATE:20211107T020000
END:STANDARD
BEGIN:DAYLIGHT
TZNAME:CDT
DTSTART:20210314T020000
TZOFFSETFROM:-0600
TZOFFSETTO:-0500
RDATE:20220313T020000
END:DAYLIGHT
END:VTIMEZONE
BEGIN:VEVENT
UID:2dd8a634-31e2-42e4-822b-b20e43d438ec
DTSTAMP:20260422T112528Z
DESCRIPTION:Join us this Friday at Bradley Park in Jasper\, Arkansas for an
  information and resource fair. \n\nOther participants include: NW Arkansa
 s Housing Authority\, US Department of Agriculture\, Newton County Senior 
 Center\, Survival Flight\, Boston Mountain Rural Health Clinic\, Universit
 y of Arkansas Extension Service\, Legal Aid of Arkansas\, Attorney General
  Leslie Rutledge's Office\, the Jasper Community Garden\, Jasper Farmer's 
 Market\, volunteer fire department Fire Wise Arkansas\, Jasper Police Depa
 rtment\, Air Evac Life Team\, Single Parent Scholarship of Arkansas\, The 
 Newton County Christian Food Room\, Arkansas Game and Fish Commission\, Ha
 rps Food Store\, Farm Upon a Rock\, Newton County Sheriff's Office Resourc
 e Officer program\, Ruby's Three wishes and Early Childhood. Larson said s
 everal more are also expected to attend.\n\n
DTSTART;TZID=America/Chicago:20210423T100000
DTEND;TZID=America/Chicago:20210423T140000
LOCATION:Bradley Park Jasper\, AR
SUMMARY:Spring Information and Job Fair at Bradley Park
END:VEVENT
END:VCALENDAR
