BEGIN:VCALENDAR
VERSION:2.0
PRODID:-//arlegalaid.org//NONSGML kigkonsult.se iCalcreator 2.30.10//
CALSCALE:GREGORIAN
METHOD:PUBLISH
UID:11973ce3-6ede-447d-9667-df99e1d87092
X-WR-CALDESC:The ninth installment of the Say This\, Not That Campaign will
  be released.
X-WR-RELCALID:9e0c469edf20e0eac4fbf2b3b95351b1
X-WR-TIMEZONE:America/Chicago
BEGIN:VTIMEZONE
TZID:America/Chicago
BEGIN:STANDARD
TZNAME:CST
DTSTART:20201101T020000
TZOFFSETFROM:-0500
TZOFFSETTO:-0600
RDATE:20211107T020000
END:STANDARD
BEGIN:DAYLIGHT
TZNAME:CDT
DTSTART:20210314T020000
TZOFFSETFROM:-0600
TZOFFSETTO:-0500
RDATE:20220313T020000
END:DAYLIGHT
END:VTIMEZONE
BEGIN:VEVENT
UID:f1a841a5-0935-4ed5-a7be-2b21961339cf
DTSTAMP:20260422T113226Z
DESCRIPTION:The ninth installment of the Say This\, Not That Campaign will 
 be released.
DTSTART;TZID=America/Chicago:20210427T000000
DTEND;TZID=America/Chicago:20210427T235900
LOCATION:
SUMMARY:Say This\, Not That Campaign: Week 9
END:VEVENT
END:VCALENDAR
