BEGIN:VCALENDAR
VERSION:2.0
PRODID:-//arlegalaid.org//NONSGML kigkonsult.se iCalcreator 2.30.10//
CALSCALE:GREGORIAN
METHOD:PUBLISH
UID:0f15023e-f0c0-4ff0-95fd-f1198721bbc1
X-WR-CALDESC:If you're interested\, please contact Greneda Johnson\, Pro Bo
 no Director\, for a prescreening and to make an appointment \nat 1-870-972
 -9224 ext. 2202.
X-WR-RELCALID:6a8c1b353685bfe7a1ab2298d197ac6e
X-WR-TIMEZONE:America/Chicago
BEGIN:VTIMEZONE
TZID:America/Chicago
BEGIN:STANDARD
TZNAME:CST
DTSTART:20201101T020000
TZOFFSETFROM:-0500
TZOFFSETTO:-0600
RDATE:20211107T020000
RDATE:20221106T020000
END:STANDARD
BEGIN:DAYLIGHT
TZNAME:CDT
DTSTART:20210314T020000
TZOFFSETFROM:-0600
TZOFFSETTO:-0500
RDATE:20220313T020000
END:DAYLIGHT
END:VTIMEZONE
BEGIN:VEVENT
UID:aefe3598-de39-452b-8e70-1c994c01338a
DTSTAMP:20260422T124809Z
DESCRIPTION:If you're interested\, please contact Greneda Johnson\, Pro Bon
 o Director\, for a prescreening and to make an appointment \nat 1-870-972-
 9224 ext. 2202.
DTSTART;TZID=America/Chicago:20210521T090000
DTEND;TZID=America/Chicago:20210521T130000
LOCATION:
SUMMARY:Criminal Record Sealing Clinic
END:VEVENT
END:VCALENDAR
