BEGIN:VCALENDAR
VERSION:2.0
PRODID:-//arlegalaid.org//NONSGML kigkonsult.se iCalcreator 2.30.10//
CALSCALE:GREGORIAN
METHOD:PUBLISH
UID:77e1a7e4-5417-4e0e-bef7-c7b977596ff3
X-WR-CALDESC:
X-WR-RELCALID:71f43b7e5d29f0161808bb3557caf127
X-WR-TIMEZONE:America/Chicago
BEGIN:VTIMEZONE
TZID:America/Chicago
BEGIN:STANDARD
TZNAME:CST
DTSTART:20201101T020000
TZOFFSETFROM:-0500
TZOFFSETTO:-0600
RDATE:20211107T020000
RDATE:20221106T020000
END:STANDARD
BEGIN:DAYLIGHT
TZNAME:CDT
DTSTART:20210314T020000
TZOFFSETFROM:-0600
TZOFFSETTO:-0500
RDATE:20220313T020000
END:DAYLIGHT
END:VTIMEZONE
BEGIN:VEVENT
UID:81e5eb8f-c809-49c1-8067-a577dbe26d7b
DTSTAMP:20260423T094712Z
DESCRIPTION:
DTSTART;TZID=America/Chicago:20210624T130000
DTEND;TZID=America/Chicago:20210624T160000
LOCATION:
SUMMARY:Name and Gender Change Clinic
END:VEVENT
END:VCALENDAR
