BEGIN:VCALENDAR
VERSION:2.0
PRODID:-//arlegalaid.org//NONSGML kigkonsult.se iCalcreator 2.30.10//
CALSCALE:GREGORIAN
METHOD:PUBLISH
UID:db942c97-96b8-4b07-a5ba-b7e69b784828
X-WR-CALDESC:
X-WR-RELCALID:1a60bb7f447d70594195804dee3899db
X-WR-TIMEZONE:America/Chicago
BEGIN:VTIMEZONE
TZID:America/Chicago
BEGIN:STANDARD
TZNAME:CST
DTSTART:20201101T020000
TZOFFSETFROM:-0500
TZOFFSETTO:-0600
RDATE:20211107T020000
RDATE:20221106T020000
END:STANDARD
BEGIN:DAYLIGHT
TZNAME:CDT
DTSTART:20210314T020000
TZOFFSETFROM:-0600
TZOFFSETTO:-0500
RDATE:20220313T020000
RDATE:20230312T020000
END:DAYLIGHT
END:VTIMEZONE
BEGIN:VEVENT
UID:06830042-7f14-4d05-8a43-03fec13d18b4
DTSTAMP:20260420T200050Z
DESCRIPTION:
DTSTART;TZID=America/Chicago:20210920T190000
DTEND;TZID=America/Chicago:20210920T203000
LOCATION:https://attendee.gotowebinar.com/register/5109073610561330957
SUMMARY:Know Your Rights: Fair Housing Training for Tenants
END:VEVENT
END:VCALENDAR
