BEGIN:VCALENDAR
VERSION:2.0
PRODID:-//arlegalaid.org//NONSGML kigkonsult.se iCalcreator 2.30.10//
CALSCALE:GREGORIAN
METHOD:PUBLISH
UID:7e7c91d5-fe66-43a9-9e6f-f13f231e6e07
X-WR-CALDESC:Legal Aid of Arkansas partners with @ar.appleseed to help prov
 ide free civil legal services.\n\n“We recognize the impact of the SCOTUS o
 verturning of Roe v. Wade has on the LGBTQ+ community\, including anticipa
 tion of continued removal of rights. We’re grateful to team up with @theeq
 ualitycrew and offer a FREE Legal Clinic for the LGBTQ+ community on Thurs
 day\, July 21 at Heroncrest\n\nWe will work alongside @arlegalaid to provi
 de free legal services including Wills\, Power of Attorney\, Custody\, Ado
 ption\, Name Change\, and Gender Change. We’ll also have notary services a
 vailable.”\n\nPre-registration is REQUIRED. First step - fill out the Lega
 l Clinic Registration form at https://linktr.ee/theequalitycrew (Link in B
 io). The clinic coordinator will contact you for further intake and to sch
 edule your appointment.\n\nQuestions? Contact msanders@arlegalaid.org.
X-WR-RELCALID:7722abd66aa4fe178f8791e2eca9e7dc
X-WR-TIMEZONE:America/Chicago
BEGIN:VTIMEZONE
TZID:America/Chicago
BEGIN:STANDARD
TZNAME:CST
DTSTART:20211107T020000
TZOFFSETFROM:-0500
TZOFFSETTO:-0600
RDATE:20221106T020000
RDATE:20231105T020000
END:STANDARD
BEGIN:DAYLIGHT
TZNAME:CDT
DTSTART:20220313T020000
TZOFFSETFROM:-0600
TZOFFSETTO:-0500
RDATE:20230312T020000
END:DAYLIGHT
END:VTIMEZONE
BEGIN:VEVENT
UID:21d754fd-57a1-42f8-b86f-d5de9f3ef1c3
DTSTAMP:20260421T170709Z
DESCRIPTION:Legal Aid of Arkansas partners with @ar.appleseed to help provi
 de free civil legal services.\n\n“We recognize the impact of the SCOTUS ov
 erturning of Roe v. Wade has on the LGBTQ+ community\, including anticipat
 ion of continued removal of rights. We’re grateful to team up with @theequ
 alitycrew and offer a FREE Legal Clinic for the LGBTQ+ community on Thursd
 ay\, July 21 at Heroncrest\n\nWe will work alongside @arlegalaid to provid
 e free legal services including Wills\, Power of Attorney\, Custody\, Adop
 tion\, Name Change\, and Gender Change. We’ll also have notary services av
 ailable.”\n\nPre-registration is REQUIRED. First step - fill out the Legal
  Clinic Registration form at https://linktr.ee/theequalitycrew (Link in Bi
 o). The clinic coordinator will contact you for further intake and to sche
 dule your appointment.\n\nQuestions? Contact msanders@arlegalaid.org.
DTSTART;TZID=America/Chicago:20220721T120000
DTEND;TZID=America/Chicago:20220721T190000
LOCATION:Heroncrest - Elm Springs
SUMMARY:LGBTQ+ Free Legal Clinic
END:VEVENT
END:VCALENDAR
