BEGIN:VCALENDAR
VERSION:2.0
PRODID:-//arlegalaid.org//NONSGML kigkonsult.se iCalcreator 2.30.10//
CALSCALE:GREGORIAN
METHOD:PUBLISH
UID:1dbf92b2-375c-4ce4-b6bf-cb70af127a9d
X-WR-CALDESC:Sign up by clicking on the link.
X-WR-RELCALID:75f8ec90b665182d23c85ef77264b3d7
X-WR-TIMEZONE:America/Chicago
BEGIN:VTIMEZONE
TZID:America/Chicago
BEGIN:STANDARD
TZNAME:CST
DTSTART:20211107T020000
TZOFFSETFROM:-0500
TZOFFSETTO:-0600
RDATE:20221106T020000
RDATE:20231105T020000
END:STANDARD
BEGIN:DAYLIGHT
TZNAME:CDT
DTSTART:20220313T020000
TZOFFSETFROM:-0600
TZOFFSETTO:-0500
RDATE:20230312T020000
END:DAYLIGHT
END:VTIMEZONE
BEGIN:VEVENT
UID:178c3301-355d-4572-acbb-62a109609ab8
DTSTAMP:20260420T073707Z
DESCRIPTION:Sign up by clicking on the link.
DTSTART;TZID=America/Chicago:20220812T090000
DTEND;TZID=America/Chicago:20220812T120000
LOCATION:Washington County Law Library
SUMMARY:Help Desk: Washington County Law Library
END:VEVENT
END:VCALENDAR
