BEGIN:VCALENDAR
VERSION:2.0
PRODID:-//arlegalaid.org//NONSGML kigkonsult.se iCalcreator 2.30.10//
CALSCALE:GREGORIAN
METHOD:PUBLISH
UID:75410d32-089b-409f-b65c-5a645ba6d845
X-WR-CALDESC:FB En Vivo: Únase a nuestro FB en vivo para conocer las órdene
 s de protección y el proceso sobre cómo obtener una orden de protección.\n
 Lindsey hablará sobre cómo navegar el proceso judicial para obtener una Or
 den de Protección\; los tipos de reparación disponibles\, la diferencia en
 tre la Orden Temporal y la Final\, y qué esperar en la audiencia judicial.
 \nChad hablará sobre cómo comenzar el proceso de Orden de Protección\; qui
 én es elegible para presentar una petición\, dónde presentarla y qué docum
 entos llevar.\nSi necesita presentar una orden de protección\, llame a nue
 stra línea de ayuda al 1-800-952-9243 para solicitar nuestros servicios gr
 atuitos o solicite en línea en arlegalaid.org\n\nFB Live: Join our FB Live
  to learn about Orders of Protection and the process of how to get one.\n
 \nLindsey will talk about navigating the court process to obtain an Order 
 of Protection\; the types of relief available\; the difference between the
  Temporary and Final Order\; and what to expect at the court hearing.\n\nC
 had will talk about how to start the Protection Order process\, who is eli
 gible to file a petition\, where to file\, and what documents to bring.\n
 \nIf you need to file for a protection order\, call our helpline at 1-800-
 952-9243 to apply for our free services or apply online at arlegalaid.org
X-WR-RELCALID:1c099ab3eaf1233ea92f69532b39890c
X-WR-TIMEZONE:America/Chicago
BEGIN:VTIMEZONE
TZID:America/Chicago
BEGIN:STANDARD
TZNAME:CST
DTSTART:20211107T020000
TZOFFSETFROM:-0500
TZOFFSETTO:-0600
RDATE:20221106T020000
RDATE:20231105T020000
END:STANDARD
BEGIN:DAYLIGHT
TZNAME:CDT
DTSTART:20220313T020000
TZOFFSETFROM:-0600
TZOFFSETTO:-0500
RDATE:20230312T020000
END:DAYLIGHT
END:VTIMEZONE
BEGIN:VEVENT
UID:30d36868-be45-4da4-95d6-ce0394fc34db
DTSTAMP:20260422T035552Z
DESCRIPTION:FB En Vivo: Únase a nuestro FB en vivo para conocer las órdenes
  de protección y el proceso sobre cómo obtener una orden de protección.\nL
 indsey hablará sobre cómo navegar el proceso judicial para obtener una Ord
 en de Protección\; los tipos de reparación disponibles\, la diferencia ent
 re la Orden Temporal y la Final\, y qué esperar en la audiencia judicial.
 \nChad hablará sobre cómo comenzar el proceso de Orden de Protección\; qui
 én es elegible para presentar una petición\, dónde presentarla y qué docum
 entos llevar.\nSi necesita presentar una orden de protección\, llame a nue
 stra línea de ayuda al 1-800-952-9243 para solicitar nuestros servicios gr
 atuitos o solicite en línea en arlegalaid.org\n\nFB Live: Join our FB Live
  to learn about Orders of Protection and the process of how to get one.\n
 \nLindsey will talk about navigating the court process to obtain an Order 
 of Protection\; the types of relief available\; the difference between the
  Temporary and Final Order\; and what to expect at the court hearing.\n\nC
 had will talk about how to start the Protection Order process\, who is eli
 gible to file a petition\, where to file\, and what documents to bring.\n
 \nIf you need to file for a protection order\, call our helpline at 1-800-
 952-9243 to apply for our free services or apply online at arlegalaid.org
DTSTART;TZID=America/Chicago:20220823T160000
DTEND;TZID=America/Chicago:20220823T170000
LOCATION:https://www.facebook.com/checkpoint/?next=https%3A%2F%2Fwww.facebo
 ok.com%2Farlegalaid
SUMMARY:FB Live: Orders of Protection/ Ordenes de Proteccion
END:VEVENT
END:VCALENDAR
