BEGIN:VCALENDAR
VERSION:2.0
PRODID:-//arlegalaid.org//NONSGML kigkonsult.se iCalcreator 2.30.10//
CALSCALE:GREGORIAN
METHOD:PUBLISH
UID:6e6cfa11-f51d-4842-ac12-ef115956a041
X-WR-CALDESC:Sign up by clicking on the link.
X-WR-RELCALID:6d9a08c88e79865ea53666c8e8c87e28
X-WR-TIMEZONE:America/Chicago
BEGIN:VTIMEZONE
TZID:America/Chicago
BEGIN:STANDARD
TZNAME:CST
DTSTART:20211107T020000
TZOFFSETFROM:-0500
TZOFFSETTO:-0600
RDATE:20221106T020000
RDATE:20231105T020000
END:STANDARD
BEGIN:DAYLIGHT
TZNAME:CDT
DTSTART:20220313T020000
TZOFFSETFROM:-0600
TZOFFSETTO:-0500
RDATE:20230312T020000
END:DAYLIGHT
END:VTIMEZONE
BEGIN:VEVENT
UID:6be052c8-7ded-4af5-8e5e-e95eb2fafb4b
DTSTAMP:20260421T164919Z
DESCRIPTION:Sign up by clicking on the link.
DTSTART;TZID=America/Chicago:20220902T090000
DTEND;TZID=America/Chicago:20220902T120000
LOCATION:Washington County Law Library
SUMMARY:Help Desk: Washington County Law Library
END:VEVENT
END:VCALENDAR
