BEGIN:VCALENDAR
VERSION:2.0
PRODID:-//arlegalaid.org//NONSGML kigkonsult.se iCalcreator 2.30.10//
CALSCALE:GREGORIAN
METHOD:PUBLISH
UID:d87d6683-b200-4ee8-a94d-9d5505ad0b87
X-WR-CALDESC:
X-WR-RELCALID:b3378a39658116d81808c34ecd01c855
X-WR-TIMEZONE:America/Chicago
BEGIN:VTIMEZONE
TZID:America/Chicago
BEGIN:STANDARD
TZNAME:CST
DTSTART:20211107T020000
TZOFFSETFROM:-0500
TZOFFSETTO:-0600
RDATE:20221106T020000
RDATE:20231105T020000
END:STANDARD
BEGIN:DAYLIGHT
TZNAME:CDT
DTSTART:20220313T020000
TZOFFSETFROM:-0600
TZOFFSETTO:-0500
RDATE:20230312T020000
RDATE:20240310T020000
END:DAYLIGHT
END:VTIMEZONE
BEGIN:VEVENT
UID:5078475c-134e-49fd-94bc-c28362f73f10
DTSTAMP:20260421T062135Z
DESCRIPTION:
DTSTART;TZID=America/Chicago:20220915T173000
DTEND;TZID=America/Chicago:20220915T183000
LOCATION:Garland County library in Hot Springs
SUMMARY:Tax Hot Topics
END:VEVENT
END:VCALENDAR
