BEGIN:VCALENDAR
VERSION:2.0
PRODID:-//arlegalaid.org//NONSGML kigkonsult.se iCalcreator 2.30.10//
CALSCALE:GREGORIAN
METHOD:PUBLISH
UID:d5506c21-3dc2-4a07-920a-b951762a628f
X-WR-CALDESC:Sign up by clicking on the link.
X-WR-RELCALID:cd6de838e736c754214ae731029289e8
X-WR-TIMEZONE:America/Chicago
BEGIN:VTIMEZONE
TZID:America/Chicago
BEGIN:STANDARD
TZNAME:CST
DTSTART:20221106T020000
TZOFFSETFROM:-0500
TZOFFSETTO:-0600
RDATE:20231105T020000
END:STANDARD
BEGIN:DAYLIGHT
TZNAME:CDT
DTSTART:20220313T020000
TZOFFSETFROM:-0600
TZOFFSETTO:-0500
RDATE:20230312T020000
RDATE:20240310T020000
END:DAYLIGHT
END:VTIMEZONE
BEGIN:VEVENT
UID:8158e548-f2b6-425d-8a5e-9121eafe0a21
DTSTAMP:20260422T102433Z
DESCRIPTION:Sign up by clicking on the link.
DTSTART;TZID=America/Chicago:20221209T090000
DTEND;TZID=America/Chicago:20221209T120000
LOCATION:Washington County Law Library
SUMMARY:Help Desk: Washington County Law Library
END:VEVENT
END:VCALENDAR
