BEGIN:VCALENDAR
VERSION:2.0
PRODID:-//arlegalaid.org//NONSGML kigkonsult.se iCalcreator 2.30.10//
CALSCALE:GREGORIAN
METHOD:PUBLISH
UID:793b3c2c-78c8-48d6-99be-2fcf6ca3eb89
X-WR-CALDESC:
X-WR-RELCALID:1df34eba97a9914d6b29945252c6cc79
X-WR-TIMEZONE:America/Chicago
BEGIN:VTIMEZONE
TZID:America/Chicago
BEGIN:STANDARD
TZNAME:CST
DTSTART:20221106T020000
TZOFFSETFROM:-0500
TZOFFSETTO:-0600
RDATE:20231105T020000
END:STANDARD
BEGIN:DAYLIGHT
TZNAME:CDT
DTSTART:20220313T020000
TZOFFSETFROM:-0600
TZOFFSETTO:-0500
RDATE:20230312T020000
RDATE:20240310T020000
END:DAYLIGHT
END:VTIMEZONE
BEGIN:VEVENT
UID:9da3080a-8dbb-4b34-81c1-62b6583e121a
DTSTAMP:20260422T084216Z
DESCRIPTION:
DTSTART;TZID=America/Chicago:20230114T093000
DTEND;TZID=America/Chicago:20230114T160000
LOCATION:
SUMMARY:Wills and Estate Clinic in West Memphis
END:VEVENT
END:VCALENDAR
