BEGIN:VCALENDAR
VERSION:2.0
PRODID:-//arlegalaid.org//NONSGML kigkonsult.se iCalcreator 2.30.10//
CALSCALE:GREGORIAN
METHOD:PUBLISH
UID:fa616b70-2783-412f-bc99-6496af771448
X-WR-CALDESC:Rogers Public Library Achieve Program:  Consumer Fraud/Protect
 ion Presentation
X-WR-RELCALID:857532daca614af355cf3c591d76aee7
X-WR-TIMEZONE:America/Chicago
BEGIN:VTIMEZONE
TZID:America/Chicago
BEGIN:STANDARD
TZNAME:CST
DTSTART:20221106T020000
TZOFFSETFROM:-0500
TZOFFSETTO:-0600
RDATE:20231105T020000
END:STANDARD
BEGIN:DAYLIGHT
TZNAME:CDT
DTSTART:20220313T020000
TZOFFSETFROM:-0600
TZOFFSETTO:-0500
RDATE:20230312T020000
RDATE:20240310T020000
END:DAYLIGHT
END:VTIMEZONE
BEGIN:VEVENT
UID:17825fcd-d6e4-46dc-9af0-6ed090c8df42
DTSTAMP:20260422T064948Z
DESCRIPTION:Rogers Public Library Achieve Program:  Consumer Fraud/Protecti
 on Presentation
DTSTART;TZID=America/Chicago:20230201T000000
DTEND;TZID=America/Chicago:20230201T235900
LOCATION:
SUMMARY:Rogers Public Library Achieve Program:  Consumer Fraud/Protection P
 resentation
END:VEVENT
END:VCALENDAR
