BEGIN:VCALENDAR
VERSION:2.0
PRODID:-//arlegalaid.org//NONSGML kigkonsult.se iCalcreator 2.30.10//
CALSCALE:GREGORIAN
METHOD:PUBLISH
UID:910dccd9-53cc-49d9-96e5-3fa4f943e343
X-WR-CALDESC:Sign up by clicking on the link.
X-WR-RELCALID:448e3e98ceb3ec0bc7c51cfec15b78e0
X-WR-TIMEZONE:America/Chicago
BEGIN:VTIMEZONE
TZID:America/Chicago
BEGIN:STANDARD
TZNAME:CST
DTSTART:20221106T020000
TZOFFSETFROM:-0500
TZOFFSETTO:-0600
RDATE:20231105T020000
END:STANDARD
BEGIN:DAYLIGHT
TZNAME:CDT
DTSTART:20220313T020000
TZOFFSETFROM:-0600
TZOFFSETTO:-0500
RDATE:20230312T020000
RDATE:20240310T020000
END:DAYLIGHT
END:VTIMEZONE
BEGIN:VEVENT
UID:771f39c5-93f3-4cbc-a4a0-33cd9083bed0
DTSTAMP:20260422T065330Z
DESCRIPTION:Sign up by clicking on the link.
DTSTART;TZID=America/Chicago:20230203T090000
DTEND;TZID=America/Chicago:20230203T120000
LOCATION:Washington County Law Library
SUMMARY:Help Desk: Washington County Law Library
END:VEVENT
END:VCALENDAR
