BEGIN:VCALENDAR
VERSION:2.0
PRODID:-//arlegalaid.org//NONSGML kigkonsult.se iCalcreator 2.30.10//
CALSCALE:GREGORIAN
METHOD:PUBLISH
UID:f14b4991-6786-4118-8ec1-9e8a7896ca46
X-WR-CALDESC:
X-WR-RELCALID:fab0a9a96819441380f73dab722a65f7
X-WR-TIMEZONE:America/Chicago
BEGIN:VTIMEZONE
TZID:America/Chicago
BEGIN:STANDARD
TZNAME:CST
DTSTART:20221106T020000
TZOFFSETFROM:-0500
TZOFFSETTO:-0600
RDATE:20231105T020000
END:STANDARD
BEGIN:DAYLIGHT
TZNAME:CDT
DTSTART:20220313T020000
TZOFFSETFROM:-0600
TZOFFSETTO:-0500
RDATE:20230312T020000
RDATE:20240310T020000
END:DAYLIGHT
END:VTIMEZONE
BEGIN:VEVENT
UID:a46a7dca-7023-41e7-a763-85628f5a2d32
DTSTAMP:20260422T065515Z
DESCRIPTION:
DTSTART;TZID=America/Chicago:20230208T150000
DTEND;TZID=America/Chicago:20230208T160000
LOCATION:213 Walnut St. \, Newport \, AR 72112 US
SUMMARY:Estate Planning Informational Session
END:VEVENT
END:VCALENDAR
