BEGIN:VCALENDAR
VERSION:2.0
PRODID:-//arlegalaid.org//NONSGML kigkonsult.se iCalcreator 2.30.10//
CALSCALE:GREGORIAN
METHOD:PUBLISH
UID:c531bf28-3037-4325-a6eb-6eae6112f74b
X-WR-CALDESC:Will help with: \n\nWills\, Powers of Attorney\, Beneficiary D
 eeds\, and Living Wills
X-WR-RELCALID:ef9470f8fb95c300cd6faa7b9e0adb3c
X-WR-TIMEZONE:America/Chicago
BEGIN:VTIMEZONE
TZID:America/Chicago
BEGIN:STANDARD
TZNAME:CST
DTSTART:20221106T020000
TZOFFSETFROM:-0500
TZOFFSETTO:-0600
RDATE:20231105T020000
END:STANDARD
BEGIN:DAYLIGHT
TZNAME:CDT
DTSTART:20220313T020000
TZOFFSETFROM:-0600
TZOFFSETTO:-0500
RDATE:20230312T020000
RDATE:20240310T020000
END:DAYLIGHT
END:VTIMEZONE
BEGIN:VEVENT
UID:3702fe4b-cbf4-4fc2-ad4d-c4e1bc86d1c2
DTSTAMP:20260422T071551Z
DESCRIPTION:Will help with: \n\nWills\, Powers of Attorney\, Beneficiary De
 eds\, and Living Wills
DTSTART;TZID=America/Chicago:20230210T100000
DTEND;TZID=America/Chicago:20230210T140000
LOCATION:217 Clay St. \, Newport\, AR 72112 US
SUMMARY:Newport: Wills and Estate Clinic
END:VEVENT
END:VCALENDAR
