BEGIN:VCALENDAR
VERSION:2.0
PRODID:-//arlegalaid.org//NONSGML kigkonsult.se iCalcreator 2.30.10//
CALSCALE:GREGORIAN
METHOD:PUBLISH
UID:6b3b7cd5-d629-4cd0-9ec7-a0fa120746a2
X-WR-CALDESC:NWACC Pride Resource Fair and Name Change Clinic
X-WR-RELCALID:d0c945974e7a7c06319ef4787b160aa5
X-WR-TIMEZONE:America/Chicago
BEGIN:VTIMEZONE
TZID:America/Chicago
BEGIN:STANDARD
TZNAME:CST
DTSTART:20221106T020000
TZOFFSETFROM:-0500
TZOFFSETTO:-0600
RDATE:20231105T020000
END:STANDARD
BEGIN:DAYLIGHT
TZNAME:CDT
DTSTART:20220313T020000
TZOFFSETFROM:-0600
TZOFFSETTO:-0500
RDATE:20230312T020000
RDATE:20240310T020000
END:DAYLIGHT
END:VTIMEZONE
BEGIN:VEVENT
UID:d7a48005-7128-45ea-95a7-95bf4c95d76a
DTSTAMP:20260422T065534Z
DESCRIPTION:NWACC Pride Resource Fair and Name Change Clinic
DTSTART;TZID=America/Chicago:20230211T110000
DTEND;TZID=America/Chicago:20230211T140000
LOCATION:Bentonville\, AR
SUMMARY:NWACC Pride Resource Fair and Name Change Clinic
END:VEVENT
END:VCALENDAR
