BEGIN:VCALENDAR
VERSION:2.0
PRODID:-//arlegalaid.org//NONSGML kigkonsult.se iCalcreator 2.30.10//
CALSCALE:GREGORIAN
METHOD:PUBLISH
UID:fef5e9e7-423f-45f7-b8bb-91816982c5f0
X-WR-CALDESC:Super Saturday Event - West Helena\, AR: Estate Planning and R
 ecord Sealing Clinic
X-WR-RELCALID:255cdc17f6efae5fc9828040dd060500
X-WR-TIMEZONE:America/Chicago
BEGIN:VTIMEZONE
TZID:America/Chicago
BEGIN:STANDARD
TZNAME:CST
DTSTART:20221106T020000
TZOFFSETFROM:-0500
TZOFFSETTO:-0600
RDATE:20231105T020000
END:STANDARD
BEGIN:DAYLIGHT
TZNAME:CDT
DTSTART:20220313T020000
TZOFFSETFROM:-0600
TZOFFSETTO:-0500
RDATE:20230312T020000
RDATE:20240310T020000
END:DAYLIGHT
END:VTIMEZONE
BEGIN:VEVENT
UID:49006cd8-10d1-4a1b-be37-27dd9de316a7
DTSTAMP:20260420T161204Z
DESCRIPTION:Super Saturday Event - West Helena\, AR: Estate Planning and Re
 cord Sealing Clinic
DTSTART;TZID=America/Chicago:20230218T000000
DTEND;TZID=America/Chicago:20230218T235900
LOCATION:
SUMMARY:Super Saturday Event - West Helena\, AR: Estate Planning and Record
  Sealing Clinic
END:VEVENT
END:VCALENDAR
