BEGIN:VCALENDAR
VERSION:2.0
PRODID:-//arlegalaid.org//NONSGML kigkonsult.se iCalcreator 2.30.10//
CALSCALE:GREGORIAN
METHOD:PUBLISH
UID:0545af5b-1f93-4236-8caa-8e83f3d6a322
X-WR-CALDESC:Sign up by clicking on the link.
X-WR-RELCALID:43a29fa614836c1606c1892e992c795c
X-WR-TIMEZONE:America/Chicago
BEGIN:VTIMEZONE
TZID:America/Chicago
BEGIN:STANDARD
TZNAME:CST
DTSTART:20221106T020000
TZOFFSETFROM:-0500
TZOFFSETTO:-0600
RDATE:20231105T020000
END:STANDARD
BEGIN:DAYLIGHT
TZNAME:CDT
DTSTART:20220313T020000
TZOFFSETFROM:-0600
TZOFFSETTO:-0500
RDATE:20230312T020000
RDATE:20240310T020000
END:DAYLIGHT
END:VTIMEZONE
BEGIN:VEVENT
UID:1c172e91-b1b3-4530-bca0-37c69e8532c3
DTSTAMP:20260422T065638Z
DESCRIPTION:Sign up by clicking on the link.
DTSTART;TZID=America/Chicago:20230224T090000
DTEND;TZID=America/Chicago:20230224T120000
LOCATION:Washington County Law Library
SUMMARY:Help Desk: Washington County Law Library
END:VEVENT
END:VCALENDAR
