BEGIN:VCALENDAR
VERSION:2.0
PRODID:-//arlegalaid.org//NONSGML kigkonsult.se iCalcreator 2.30.10//
CALSCALE:GREGORIAN
METHOD:PUBLISH
UID:778acc17-6b5e-4d09-9b86-e7d2b70fdef6
X-WR-CALDESC:Super Saturday Event - Blytheville\, AR: Estate Planning and R
 ecord Sealing Clinic
X-WR-RELCALID:c79873c23e4d701771f629984973f7c5
X-WR-TIMEZONE:America/Chicago
BEGIN:VTIMEZONE
TZID:America/Chicago
BEGIN:STANDARD
TZNAME:CST
DTSTART:20221106T020000
TZOFFSETFROM:-0500
TZOFFSETTO:-0600
RDATE:20231105T020000
END:STANDARD
BEGIN:DAYLIGHT
TZNAME:CDT
DTSTART:20220313T020000
TZOFFSETFROM:-0600
TZOFFSETTO:-0500
RDATE:20230312T020000
RDATE:20240310T020000
END:DAYLIGHT
END:VTIMEZONE
BEGIN:VEVENT
UID:ce90a091-49cc-4707-b894-0dcf6b53e90a
DTSTAMP:20260422T071235Z
DESCRIPTION:Super Saturday Event - Blytheville\, AR: Estate Planning and Re
 cord Sealing Clinic
DTSTART;TZID=America/Chicago:20230225T000000
DTEND;TZID=America/Chicago:20230225T235900
LOCATION:
SUMMARY:Super Saturday Event - Blytheville\, AR: Estate Planning and Record
  Sealing Clinic
END:VEVENT
END:VCALENDAR
