BEGIN:VCALENDAR
VERSION:2.0
PRODID:-//arlegalaid.org//NONSGML kigkonsult.se iCalcreator 2.30.10//
CALSCALE:GREGORIAN
METHOD:PUBLISH
UID:a051a8cf-2efb-45a8-9700-79f587f66588
X-WR-CALDESC:In-Person. FREE Ethics CLE for licensed attorneys from 4 pm to
  5 pm.
X-WR-RELCALID:9e3afbb990110e1a234b94379a8d1da1
X-WR-TIMEZONE:America/Chicago
BEGIN:VTIMEZONE
TZID:America/Chicago
BEGIN:STANDARD
TZNAME:CST
DTSTART:20221106T020000
TZOFFSETFROM:-0500
TZOFFSETTO:-0600
RDATE:20231105T020000
END:STANDARD
BEGIN:DAYLIGHT
TZNAME:CDT
DTSTART:20220313T020000
TZOFFSETFROM:-0600
TZOFFSETTO:-0500
RDATE:20230312T020000
RDATE:20240310T020000
END:DAYLIGHT
END:VTIMEZONE
BEGIN:VEVENT
UID:3b173860-e3ad-4033-a87e-b649391bfd7b
DTSTAMP:20260422T070642Z
DESCRIPTION:In-Person. FREE Ethics CLE for licensed attorneys from 4 pm to 
 5 pm.
DTSTART;TZID=America/Chicago:20230227T160000
DTEND;TZID=America/Chicago:20230227T170000
LOCATION:109 N. Arkansas \, Rogers\, AR 72756 US
SUMMARY:FREE Ethics CLE: 1 hour
END:VEVENT
END:VCALENDAR
