BEGIN:VCALENDAR
VERSION:2.0
PRODID:-//arlegalaid.org//NONSGML kigkonsult.se iCalcreator 2.30.10//
CALSCALE:GREGORIAN
METHOD:PUBLISH
UID:98d14f7b-94d8-4860-a044-2fea077813a0
X-WR-CALDESC:Rogers Public Library Achieve Program:  Benefits/Unemployment 
 Presentation
X-WR-RELCALID:75f48f61de6a0af20493735b5c89debf
X-WR-TIMEZONE:America/Chicago
BEGIN:VTIMEZONE
TZID:America/Chicago
BEGIN:STANDARD
TZNAME:CST
DTSTART:20221106T020000
TZOFFSETFROM:-0500
TZOFFSETTO:-0600
RDATE:20231105T020000
END:STANDARD
BEGIN:DAYLIGHT
TZNAME:CDT
DTSTART:20220313T020000
TZOFFSETFROM:-0600
TZOFFSETTO:-0500
RDATE:20230312T020000
RDATE:20240310T020000
END:DAYLIGHT
END:VTIMEZONE
BEGIN:VEVENT
UID:97e5304e-2651-4fd8-a0da-fb48efef255f
DTSTAMP:20260422T052526Z
DESCRIPTION:Rogers Public Library Achieve Program:  Benefits/Unemployment P
 resentation
DTSTART;TZID=America/Chicago:20230301T000000
DTEND;TZID=America/Chicago:20230301T235900
LOCATION:
SUMMARY:Rogers Public Library Achieve Program: Medicaid Presentation
END:VEVENT
END:VCALENDAR
