BEGIN:VCALENDAR
VERSION:2.0
PRODID:-//arlegalaid.org//NONSGML kigkonsult.se iCalcreator 2.30.10//
CALSCALE:GREGORIAN
METHOD:PUBLISH
UID:2389e321-ba4c-4170-8950-f5f9f325d375
X-WR-CALDESC:Sign up by clicking on the link.
X-WR-RELCALID:1f759bf93759fa5f1db81624f88d7f00
X-WR-TIMEZONE:America/Chicago
BEGIN:VTIMEZONE
TZID:America/Chicago
BEGIN:STANDARD
TZNAME:CST
DTSTART:20221106T020000
TZOFFSETFROM:-0500
TZOFFSETTO:-0600
RDATE:20231105T020000
END:STANDARD
BEGIN:DAYLIGHT
TZNAME:CDT
DTSTART:20220313T020000
TZOFFSETFROM:-0600
TZOFFSETTO:-0500
RDATE:20230312T020000
RDATE:20240310T020000
END:DAYLIGHT
END:VTIMEZONE
BEGIN:VEVENT
UID:366e3c62-0bd6-4df9-9fa6-612825025d27
DTSTAMP:20260422T054258Z
DESCRIPTION:Sign up by clicking on the link.
DTSTART;TZID=America/Chicago:20230310T090000
DTEND;TZID=America/Chicago:20230310T120000
LOCATION:Washington County Law Library
SUMMARY:Help Desk: Washington County Law Library
END:VEVENT
END:VCALENDAR
