BEGIN:VCALENDAR
VERSION:2.0
PRODID:-//arlegalaid.org//NONSGML kigkonsult.se iCalcreator 2.30.10//
CALSCALE:GREGORIAN
METHOD:PUBLISH
UID:7b6e4b10-bbb3-4e2e-adc9-16637b047da6
X-WR-CALDESC:Sign up by clicking on the link.
X-WR-RELCALID:188bb7f821cfe9d6767898547f077915
X-WR-TIMEZONE:America/Chicago
BEGIN:VTIMEZONE
TZID:America/Chicago
BEGIN:STANDARD
TZNAME:CST
DTSTART:20221106T020000
TZOFFSETFROM:-0500
TZOFFSETTO:-0600
RDATE:20231105T020000
END:STANDARD
BEGIN:DAYLIGHT
TZNAME:CDT
DTSTART:20230312T020000
TZOFFSETFROM:-0600
TZOFFSETTO:-0500
RDATE:20240310T020000
END:DAYLIGHT
END:VTIMEZONE
BEGIN:VEVENT
UID:3f41c627-5aa6-46be-a53d-536d412fb303
DTSTAMP:20260422T053111Z
DESCRIPTION:Sign up by clicking on the link.
DTSTART;TZID=America/Chicago:20230317T090000
DTEND;TZID=America/Chicago:20230317T120000
LOCATION:Washington County Law Library
SUMMARY:Help Desk: Washington County Law Library
END:VEVENT
END:VCALENDAR
