BEGIN:VCALENDAR
VERSION:2.0
PRODID:-//arlegalaid.org//NONSGML kigkonsult.se iCalcreator 2.30.10//
CALSCALE:GREGORIAN
METHOD:PUBLISH
UID:c77fa73a-a373-4c66-9bfc-40bbd304e3f5
X-WR-CALDESC:
X-WR-RELCALID:67a518ff68c67ae0f03d0d7090cee8cf
X-WR-TIMEZONE:America/Chicago
BEGIN:VTIMEZONE
TZID:America/Chicago
BEGIN:STANDARD
TZNAME:CST
DTSTART:20221106T020000
TZOFFSETFROM:-0500
TZOFFSETTO:-0600
RDATE:20231105T020000
END:STANDARD
BEGIN:DAYLIGHT
TZNAME:CDT
DTSTART:20230312T020000
TZOFFSETFROM:-0600
TZOFFSETTO:-0500
RDATE:20240310T020000
END:DAYLIGHT
END:VTIMEZONE
BEGIN:VEVENT
UID:ce867b92-5238-4ae4-92d9-6577541132a6
DTSTAMP:20260421T202254Z
DESCRIPTION:
DTSTART;TZID=America/Chicago:20230322T100000
DTEND;TZID=America/Chicago:20230322T130000
LOCATION:
SUMMARY:Spring Break On the Road to Justice in Marianna\, AR
END:VEVENT
END:VCALENDAR
